Workbook

Sheet Bilgiler
B2: Okul Adı | C2: : | D2: ATATÜRK ORTAOKULU
B3: Eğitim Öğretim Yılı | C3: : | D3: 2025-2026
B4: Ders | C4: : | D4: TÜRKÇE
B5: Sınıf | C5: : | D5: 5/F
B6: Ders Öğretmeni | C6: : | D6: Engin YAZAN
B7: Branşı | D7: TÜRKÇE ÖĞRETMENİ
B8: Okul Müdürü | C8: : | D8: MEHMET ALTINDAĞ
B11: *** Bu sayfadaki bilgiler programın Diğer sayfalarında otomatik olarak yazılmaktadır. O yüzden burdaki bilgilerin eksiksiz yazılması gerekmektedir. *** Konular sayfasında ilgili sınavın tablosunun sadece kazanım ve puan sütunlarını doldurmanız yeterlidir. Bilgiler analiz sayfalarına otomatik gider. *** Analiz sayfaları korumalıdır sadece öğrenci listesi ve sorulardan aldıkları puanlar düzenlenebilir. Gerisi otomatiktir.

Sheet Konular
A1: =Bilgiler!D2 -> ATATÜRK ORTAOKULU
A2: =E7+E8 -> #VALUE!
A3: 1. DÖNEM 1. YAZILI SINAV SORULARININ KONU VE KAZANIMLARI
A4: SORU | B4: SORULAR | C4: ÜNİTE / MODÜL ADI | D4: KONU / ÖĞRENME FAALİYETİ | E4: KAZANIMLAR | F4: Puan
A5: 1 | E5: T.O.5.5. Metinde geçen anlamını bilmediği söz varlığı unsurlarının anlamını tahmin edebilme. | F5: 15
A6: 2 | E6: TO.5.21. Metinden hareketle söz varlığını geliştirmeye yönelik çözümleme yapabilme. | F6: 20
A7: 3 | E7: T.O.5.6. Metnin yüzey anlamını belirleyebilme. (konu) | F7: 10
A8: 4 | E8: T.O.5.6. Metnin yüzey anlamını belirleyebilme. (başlık) | F8: 10
A9: 5 | E9: T.Y.5.21. Yazım kurallarını uygulayabilme. | F9: 9
A10: 6 | E10: T.Y.5.21. Noktalama işaretlerini uygulayabilme. | F10: 9
A11: 7 | E11: T.Y.5.18. Yazısını zenginleştirecek biçimde söz varlığını kullanabilme. | F11: 27
A12: 8
A13: 9
A14: 10
A15: 11
A16: 12
A17: 13
A18: 14
A19: 15
A20: 16
A21: 17
A22: 18
A23: 19
... A29: 25
A30: TOPLAM | F30: =SUM(F5:F29) -> 100
C34: =Bilgiler!D6 -> Engin YAZAN
C35: =Bilgiler!D7 -> TÜRKÇE ÖĞRETMENİ
E36: =Bilgiler!D8 -> MEHMET ALTINDAĞ
E37: Okul Müdürü
A39: =Bilgiler!D2 -> ATATÜRK ORTAOKULU
A40: =Bilgiler!D4 -> TÜRKÇE
A41: 1. DÖNEM 2. YAZILI SINAV SORULARININ KONU VE KAZANIMLARI
A42: SORU | B42: SORULAR | C42: ÜNİTE / MODÜL ADI | D42: KONU / ÖĞRENME FAALİYETİ | E42: KAZANIMLAR | F42: Puan
A43: 1 | E43: T.O.5.5. Metinde geçen anlamını bilmediği söz varlığı unsurlarının anlamını tahmin edebilme. | F43: 15
A44: 2 | E44: T.O.5.6. Metnin yüzey anlamını belirleyebilme. | F44: 5
A45: 3 | E45: T.O. 5.14.Öyküleyici metinlerdeki hikaye unsurlarını belirlemeye yönelik çözümleme yapabilme. | F45: 20
A46: 4 | E46: T.O. 5.20. Metindeki söz sanatlarınılarını belirlemeye yönelik çözümleme yapabilme. | F46: 15
A47: 5 | E47: T.Y.5.20. Uygun geçiş ve bağlantı ifadelerini kullanabilme | F47: 15
A48: 6 | E48: T.Y.5.17. Yazısında düşünceyi geliştirme yollarını kullanabilme. | F48: 30
A49: 7
...

Sheet Analiz 1.1
A1: SINAV ANALİZİ VE SINIF DEĞERLENDİRMESİ
C2: Okul : | D2: =Bilgiler!D2 -> ATATÜRK ORTAOKULU | N2: Sınıf | R2: : | S2: =Bilgiler!D5 -> 5/F | X2: Bu sınav 100 puan üzerinden uygulanıp alınan toplam puanın %50’sine “Konuşma Becerileri Sınavı” ile “Dinleme Becerileri Sınavı” puanlarının %25'leri eklenir.
C3: Öğretim Yılı : | D3: =Bilgiler!D3 -> 2025-2026 | N3: Sınav Dönemi | R3: : | S3: 1. Dönem
C4: Ders : | D4: =Bilgiler!D4 -> TÜRKÇE | N4: Sınav Numarası | R4: : | S4: 1. Yazılı
C5: Ders Öğretmeni: | D5: =Bilgiler!D6 -> Engin YAZAN | N5: Sınav tarihi | R5: : | S5: 45231
A7: ÖĞRENCİNİN | E7: SORULAR | Y7: SONUÇ
A8: SIRA NO | B8: OKUL NO | E8: 1 | F8: 2 | G8: 3 | H8: 4 | I8: 5 | J8: 6 | K8: 7 | L8: 8 | M8: 9 | N8: 10 | O8: 11 | P8: 12 | Q8: 13 | R8: 14 | S8: 15 | T8: 16 | U8: 17 | V8: 18 | W8: 19 | X8: 20 | Y8: PUAN | Z8: DURUM | AA8: Girmedi
A9: 1 | B9: ELİF ÜLKÜ GÖKÇE | E9: 15 | F9: 20 | G9: 10 | H9: 10 | I9: 9 | J9: 9 | K9: 27 | Y9: 100 | Z9: =IF(SUM(E9:X9)="","",IF(Y9<70,"BAŞARISIZ",IF(Y9<=100,"BAŞARILI",""))) -> BAŞARILI
A10: 2 | B10: MEHMET FARUK SAY | E10: 15 | F10: 15 | G10: 5 | H10: 10 | I10: 6 | J10: 6 | K10: 17 | Y10: 74 | Z10: =IF(SUM(E10:X10)="","",IF(Y10<70,"BAŞARISIZ",IF(Y10<=100,"BAŞARILI",""))) -> BAŞARILI
A11: 3 | B11: ZEHRA MİRA İÇALAN | E11: 15 | F11: 20 | G11: 10 | H11: 10 | I11: 6 | J11: 6 | K11: 22 | Y11: 89 | Z11: =IF(SUM(E11:X11)="","",IF(Y11<70,"BAŞARISIZ",IF(Y11<=100,"BAŞARILI",""))) -> BAŞARILI
A12: 4 | B12: SUAT BULUT | E12: 15 | F12: 10 | G12: 10 | H12: 10 | I12: 9 | J12: 6 | K12: 20 | Y12: 80 | Z12: =IF(SUM(E12:X12)="","",IF(Y12<70,"BAŞARISIZ",IF(Y12<=100,"BAŞARILI",""))) -> BAŞARILI
A13: 5 | B13: ATA EFE ÇETİN | E13: 10 | F13: 15 | G13: 10 | H13: 5 | I13: 3 | J13: 9 | K13: 10 | Y13: 62 | Z13: =IF(SUM(E13:X13)="","",IF(Y13<70,"BAŞARISIZ",IF(Y13<=100,"BAŞARILI",""))) -> BAŞARISIZ
A14: 6 | B14: BAHAR NUR UĞUR | E14: 15 | F14: 20 | G14: 10 | H14: 10 | I14: 6 | J14: 9 | K14: 20 | Y14: 90 | Z14: =IF(SUM(E14:X14)="","",IF(Y14<70,"BAŞARISIZ",IF(Y14<=100,"BAŞARILI",""))) -> BAŞARILI
A15: 7 | B15: BELİNAY PİYNAR | E15: 15 | F15: 15 | G15: 10 | H15: 10 | I15: 0 | J15: 0 | K15: 10 | Y15: 60 | Z15: =IF(SUM(E15:X15)="","",IF(Y15<70,"BAŞARISIZ",IF(Y15<=100,"BAŞARILI",""))) -> BAŞARISIZ
A16: 8 | B16: BERDAN YAĞIZ AKSAY | E16: 10 | F16: 10 | G16: 10 | H16: 10 | I16: 6 | J16: 9 | K16: 15 | Y16: 70 | Z16: =IF(SUM(E16:X16)="","",IF(Y16<70,"BAŞARISIZ",IF(Y16<=100,"BAŞARILI",""))) -> BAŞARILI
A17: 9 | B17: BERRANUR ASLI PİYASLI | E17: 10 | F17: 20 | G17: 10 | H17: 5 | I17: 3 | J17: 6 | K17: 17 | Y17: 71 | Z17: =IF(SUM(E17:X17)="","",IF(Y17<70,"BAŞARISIZ",IF(Y17<=100,"BAŞARILI",""))) -> BAŞARILI
A18: 10 | B18: BERTUĞ GÜR | E18: 10 | F18: 20 | G18: 10 | H18: 10 | I18: 6 | J18: 9 | K18: 27 | Y18: 92 | Z18: =IF(SUM(E18:X18)="","",IF(Y18<70,"BAŞARISIZ",IF(Y18<=100,"BAŞARILI",""))) -> BAŞARILI
A19: 11 | B19: CANSU KANLIADA | E19: 0 | F19: 15 | G19: 10 | H19: 10 | I19: 3 | J19: 3 | K19: 20 | Y19: 51 | Z19: =IF(SUM(E19:X19)="","",IF(Y19<70,"BAŞARISIZ",IF(Y19<=100,"BAŞARILI",""))) -> BAŞARISIZ
A20: 12 | B20: ÇINAR METİN AHI | E20: 15 | F20: 10 | G20: 10 | H20: 10 | I20: 6 | J20: 6 | K20: 22 | Y20: 79 | Z20: =IF(SUM(E20:X20)="","",IF(Y20<70,"BAŞARISIZ",IF(Y20<=100,"BAŞARILI",""))) -> BAŞARILI
... A33: 25 | B33: MİRAÇ KAPLAN | E33: 15 | F33: 10 | G33: 10 | H33: 10 | I33: 6 | J33: 9 | K33: 20 | Y33: 80 | Z33: =IF(SUM(E33:X33)="","",IF(Y33<70,"BAŞARISIZ",IF(Y33<=100,"BAŞARILI",""))) -> BAŞARILI
A34: 26 | B34: MUSTAFA KADIOĞLU | Y34: =IF(AA34="G","",IF(C34="","",SUM(E34:X34))) | Z34: =IF(SUM(E34:X34)="","",IF(Y34<70,"BAŞARISIZ",IF(Y34<=100,"BAŞARILI","")))
A35: 27 | B35: NİHAT KAĞAN DURSUN | E35: 15 | F35: 10 | G35: 10 | H35: 10 | I35: 0 | J35: 0 | K35: 10 | Y35: 55 | Z35: =IF(SUM(E35:X35)="","",IF(Y35<70,"BAŞARISIZ",IF(Y35<=100,"BAŞARILI",""))) -> BAŞARISIZ
A36: 28 | B36: SAMİ ÇINAR KÖKSOY | E36: 15 | F36: 20 | G36: 10 | H36: 10 | I36: 9 | J36: 6 | K36: 22 | Y36: 92 | Z36: =IF(SUM(E36:X36)="","",IF(Y36<70,"BAŞARISIZ",IF(Y36<=100,"BAŞARILI",""))) -> BAŞARILI
A37: 29 | B37: SENA ÇOPUR | E37: 10 | F37: 15 | G37: 10 | H37: 10 | I37: 6 | J37: 9 | K37: 27 | Y37: 87 | Z37: =IF(SUM(E37:X37)="","",IF(Y37<70,"BAŞARISIZ",IF(Y37<=100,"BAŞARILI",""))) -> BAŞARILI
A38: 30 | B38: SERDAR KAYRA KANGIN | E38: 10 | F38: 10 | G38: 10 | H38: 10 | I38: 3 | J38: 9 | K38: 2 | Y38: 54 | Z38: =IF(SUM(E38:X38)="","",IF(Y38<70,"BAŞARISIZ",IF(Y38<=100,"BAŞARILI",""))) -> BAŞARISIZ
A39: 31 | B39: YAĞMUR SENA TEKNEÇUKUR | E39: 10 | F39: 20 | G39: 10 | H39: 10 | I39: 3 | J39: 9 | K39: 27 | Y39: 89 | Z39: =IF(SUM(E39:X39)="","",IF(Y39<70,"BAŞARISIZ",IF(Y39<=100,"BAŞARILI",""))) -> BAŞARILI
A40: 32 | B40: EFLİN SAK | E40: 15 | F40: 15 | G40: 10 | H40: 10 | I40: 6 | J40: 9 | K40: 22 | Y40: 90 | Z40: =IF(SUM(E40:X40)="","",IF(Y40<70,"BAŞARISIZ",IF(Y40<=100,"BAŞARILI",""))) -> BAŞARILI
A41: 33 | Y41: =IF(AA41="G","",IF(C41="","",SUM(E41:X41))) | Z41: =IF(SUM(E41:X41)="","",IF(Y41<70,"BAŞARISIZ",IF(Y41<=100,"BAŞARILI","")))
A42: 34 | Y42: =IF(AA42="G","",IF(C42="","",SUM(E42:X42))) | Z42: =IF(SUM(E42:X42)="","",IF(Y42<70,"BAŞARISIZ",IF(Y42<=100,"BAŞARILI","")))
A43: 35 | Y43: =IF(AA43="G","",IF(C43="","",SUM(E43:X43))) | Z43: =IF(SUM(E43:X43)="","",IF(Y43<70,"BAŞARISIZ",IF(Y43<=100,"BAŞARILI","")))
A44: 36 | Y44: =IF(AA44="G","",IF(C44="","",SUM(E44:X44))) | Z44: =IF(SUM(E44:X44)="","",IF(Y44<70,"BAŞARISIZ",IF(Y44<=100,"BAŞARILI","")))
A45: 37 | Y45: =IF(AA45="G","",IF(C45="","",SUM(E45:X45))) | Z45: =IF(SUM(E45:X45)="","",IF(Y45<70,"BAŞARISIZ",IF(Y45<=100,"BAŞARILI","")))
A46: 38 | Y46: =IF(AA46="G","",IF(C46="","",SUM(E46:X46))) | Z46: =IF(SUM(E46:X46)="","",IF(Y46<70,"BAŞARISIZ",IF(Y46<=100,"BAŞARILI","")))
A47: 39 | Y47: =IF(AA47="G","",IF(C47="","",SUM(E47:X47))) | Z47: =IF(SUM(E47:X47)="","",IF(Y47<70,"BAŞARISIZ",IF(Y47<=100,"BAŞARILI","")))
A48: 40 | Y48: =IF(AA48="G","",IF(C48="","",SUM(E48:X48))) | Z48: =IF(SUM(E48:X48)="","",IF(Y48<70,"BAŞARISIZ",IF(Y48<=100,"BAŞARILI","")))
A49: 41 | Y49: =IF(AA49="G","",IF(C49="","",SUM(E49:X49))) | Z49: =IF(SUM(E49:X49)="","",IF(Y49<70,"BAŞARISIZ",IF(Y49<=100,"BAŞARILI","")))
A50: 42 | Y50: =IF(AA50="G","",IF(C50="","",SUM(E50:X50))) | Z50: =IF(SUM(E50:X50)="","",IF(Y50<70,"BAŞARISIZ",IF(Y50<=100,"BAŞARILI","")))
A51: 43 | Y51: =IF(AA51="G","",IF(C51="","",SUM(E51:X51))) | Z51: =IF(SUM(E51:X51)="","",IF(Y51<70,"BAŞARISIZ",IF(Y51<=100,"BAŞARILI","")))
A52: 44 | Y52: =IF(AA52="G","",IF(C52="","",SUM(E52:X52))) | Z52: =IF(SUM(E52:X52)="","",IF(Y52<70,"BAŞARISIZ",IF(Y52<=100,"BAŞARILI","")))
A53: 45 | Y53: =IF(AA53="G","",IF(C53="","",SUM(E53:X53))) | Z53: =IF(SUM(E53:X53)="","",IF(Y53<70,"BAŞARISIZ",IF(Y53<=100,"BAŞARILI","")))
...

Sheet Analiz 1.2
A1: SINAV ANALİZİ VE SINIF DEĞERLENDİRMESİ
C2: Okul : | D2: =Bilgiler!D2 -> ATATÜRK ORTAOKULU | N2: Sınıf | R2: : | S2: =Bilgiler!D5 -> 5/F | X2: Bu sınav 100 puan üzerinden uygulanıp alınan toplam puanın %50’sine “Konuşma Becerileri Sınavı” ile “Dinleme Becerileri Sınavı” puanlarının %25'leri eklenir.
C3: Öğretim Yılı : | D3: =Bilgiler!D3 -> 2025-2026 | N3: Sınav Dönemi | R3: : | S3: 1. Dönem
C4: Ders : | D4: =Bilgiler!D4 -> TÜRKÇE | N4: Sınav Numarası | R4: : | S4: 2. Yazılı
C5: Ders Öğretmeni: | D5: =Bilgiler!D6 -> Engin YAZAN | N5: Sınav tarihi | R5: :
A7: ÖĞRENCİNİN | E7: SORULAR | Y7: SONUÇ
A8: SIRA NO | B8: OKUL NO | C8: ADI | D8: SOYADI | E8: 1 | F8: 2 | G8: 3 | H8: 4 | I8: 5 | J8: 6 | K8: 7 | L8: 8 | M8: 9 | N8: 10 | O8: 11 | P8: 12 | Q8: 13 | R8: 14 | S8: 15 | T8: 16 | U8: 17 | V8: 18 | W8: 19 | X8: 20 | Y8: PUAN | Z8: DURUM | AA8: Girmedi
A9: 1 | C9: ELİF ÜLKÜ GÖKÇE | E9: 15 | F9: 5 | G9: 20 | H9: 15 | I9: 15 | J9: 30 | Y9: =IF(AA9="G","",IF(C9="","",SUM(E9:X9))) -> 100 | Z9: =IF(SUM(E9:X9)="","",IF(Y9<70,"BAŞARISIZ",IF(Y9<=100,"BAŞARILI",""))) -> BAŞARILI
A10: 2 | C10: MEHMET FARUK SAY | E10: 10 | F10: 0 | G10: 20 | H10: 5 | I10: 0 | J10: 20 | Y10: =IF(AA10="G","",IF(C10="","",SUM(E10:X10))) -> 55 | Z10: =IF(SUM(E10:X10)="","",IF(Y10<70,"BAŞARISIZ",IF(Y10<=100,"BAŞARILI",""))) -> BAŞARISIZ
A11: 3 | C11: ZEHRA MİRA İÇALAN | E11: 15 | F11: 0 | G11: 20 | H11: 15 | I11: 9 | J11: 25 | Y11: =IF(AA11="G","",IF(C11="","",SUM(E11:X11))) -> 84 | Z11: =IF(SUM(E11:X11)="","",IF(Y11<70,"BAŞARISIZ",IF(Y11<=100,"BAŞARILI",""))) -> BAŞARILI
A12: 4 | C12: SUAT BULUT | E12: 15 | F12: 0 | G12: 20 | H12: 15 | I12: 6 | J12: 27 | Y12: =IF(AA12="G","",IF(C12="","",SUM(E12:X12))) -> 83 | Z12: =IF(SUM(E12:X12)="","",IF(Y12<70,"BAŞARISIZ",IF(Y12<=100,"BAŞARILI",""))) -> BAŞARILI
A13: 5 | C13: ATA EFE ÇETİN | E13: 10 | F13: 0 | G13: 20 | H13: 15 | I13: 10 | J13: 15 | Y13: =IF(AA13="G","",IF(C13="","",SUM(E13:X13))) -> 70 | Z13: =IF(SUM(E13:X13)="","",IF(Y13<70,"BAŞARISIZ",IF(Y13<=100,"BAŞARILI",""))) -> BAŞARILI
A14: 6 | C14: BAHAR NUR UĞUR | E14: 15 | F14: 5 | G14: 20 | H14: 5 | I14: 15 | J14: 20 | Y14: =IF(AA14="G","",IF(C14="","",SUM(E14:X14))) -> 80 | Z14: =IF(SUM(E14:X14)="","",IF(Y14<70,"BAŞARISIZ",IF(Y14<=100,"BAŞARILI",""))) -> BAŞARILI
A15: 7 | C15: BELİNAY PİYNAR | E15: 15 | F15: 0 | G15: 15 | H15: 15 | I15: 3 | J15: 20 | Y15: =IF(AA15="G","",IF(C15="","",SUM(E15:X15))) -> 68 | Z15: =IF(SUM(E15:X15)="","",IF(Y15<70,"BAŞARISIZ",IF(Y15<=100,"BAŞARILI",""))) -> BAŞARISIZ
A16: 8 | C16: BERDAN YAĞIZ AKSAY | E16: 15 | F16: 5 | G16: 20 | H16: 15 | I16: 0 | J16: 15 | Y16: =IF(AA16="G","",IF(C16="","",SUM(E16:X16))) -> 70 | Z16: =IF(SUM(E16:X16)="","",IF(Y16<70,"BAŞARISIZ",IF(Y16<=100,"BAŞARILI",""))) -> BAŞARILI
A17: 9 | C17: BERRANUR ASLI PİYASLI | E17: 15 | F17: 5 | G17: 20 | H17: 15 | I17: 3 | J17: 25 | Y17: =IF(AA17="G","",IF(C17="","",SUM(E17:X17))) -> 83 | Z17: =IF(SUM(E17:X17)="","",IF(Y17<70,"BAŞARISIZ",IF(Y17<=100,"BAŞARILI",""))) -> BAŞARILI
A18: 10 | C18: BERTUĞ GÜR | E18: 10 | F18: 5 | G18: 20 | H18: 15 | I18: 6 | J18: 30 | Y18: =IF(AA18="G","",IF(C18="","",SUM(E18:X18))) -> 86 | Z18: =IF(SUM(E18:X18)="","",IF(Y18<70,"BAŞARISIZ",IF(Y18<=100,"BAŞARILI",""))) -> BAŞARILI
A19: 11 | C19: CANSU KANLIADA | E19: 0 | F19: 0 | G19: 20 | H19: 15 | I19: 9 | J19: 10 | Y19: =IF(AA19="G","",IF(C19="","",SUM(E19:X19))) -> 54 | Z19: =IF(SUM(E19:X19)="","",IF(Y19<70,"BAŞARISIZ",IF(Y19<=100,"BAŞARILI",""))) -> BAŞARISIZ
A20: 12 | C20: ÇINAR METİN AHI | E20: 10 | F20: 0 | G20: 20 | H20: 15 | I20: 0 | J20: 28 | Y20: =IF(AA20="G","",IF(C20="","",SUM(E20:X20))) -> 73 | Z20: =IF(SUM(E20:X20)="","",IF(Y20<70,"BAŞARISIZ",IF(Y20<=100,"BAŞARILI",""))) -> BAŞARILI
... A33: 25 | C33: MİRAÇ KAPLAN | E33: 10 | F33: 5 | G33: 20 | H33: 15 | I33: 6 | J33: 15 | Y33: =IF(AA33="G","",IF(C33="","",SUM(E33:X33))) -> 71 | Z33: =IF(SUM(E33:X33)="","",IF(Y33<70,"BAŞARISIZ",IF(Y33<=100,"BAŞARILI",""))) -> BAŞARILI
A34: 26 | C34: MUSTAFA KADIOĞLU | Y34: =IF(AA34="G","",IF(C34="","",SUM(E34:X34))) -> 0 | Z34: =IF(SUM(E34:X34)="","",IF(Y34<70,"BAŞARISIZ",IF(Y34<=100,"BAŞARILI",""))) -> BAŞARISIZ
A35: 27 | C35: NİHAT KAĞAN DURSUN | E35: 15 | F35: 5 | G35: 20 | H35: 15 | I35: 6 | J35: 10 | Y35: =IF(AA35="G","",IF(C35="","",SUM(E35:X35))) -> 71 | Z35: =IF(SUM(E35:X35)="","",IF(Y35<70,"BAŞARISIZ",IF(Y35<=100,"BAŞARILI",""))) -> BAŞARILI
A36: 28 | C36: SAMİ ÇINAR KÖKSOY | E36: 10 | F36: 5 | G36: 20 | H36: 15 | I36: 6 | J36: 20 | Y36: =IF(AA36="G","",IF(C36="","",SUM(E36:X36))) -> 76 | Z36: =IF(SUM(E36:X36)="","",IF(Y36<70,"BAŞARISIZ",IF(Y36<=100,"BAŞARILI",""))) -> BAŞARILI
A37: 29 | C37: SENA ÇOPUR | E37: 15 | F37: 0 | G37: 17 | H37: 15 | I37: 15 | J37: 18 | Y37: =IF(AA37="G","",IF(C37="","",SUM(E37:X37))) -> 80 | Z37: =IF(SUM(E37:X37)="","",IF(Y37<70,"BAŞARISIZ",IF(Y37<=100,"BAŞARILI",""))) -> BAŞARILI
A38: 30 | C38: SERDAR KAYRA KANGIN | E38: 5 | F38: 0 | G38: 20 | H38: 15 | I38: 3 | J38: 10 | Y38: =IF(AA38="G","",IF(C38="","",SUM(E38:X38))) -> 53 | Z38: =IF(SUM(E38:X38)="","",IF(Y38<70,"BAŞARISIZ",IF(Y38<=100,"BAŞARILI",""))) -> BAŞARISIZ
A39: 31 | C39: YAĞMUR SENA TEKNEÇUKUR | E39: 10 | F39: 5 | G39: 20 | H39: 15 | I39: 0 | J39: 30 | Y39: =IF(AA39="G","",IF(C39="","",SUM(E39:X39))) -> 80 | Z39: =IF(SUM(E39:X39)="","",IF(Y39<70,"BAŞARISIZ",IF(Y39<=100,"BAŞARILI",""))) -> BAŞARILI
A40: 32 | C40: EFLİN SAK | E40: 10 | F40: 0 | G40: 20 | H40: 15 | I40: 9 | J40: 30 | Y40: =IF(AA40="G","",IF(C40="","",SUM(E40:X40))) -> 84 | Z40: =IF(SUM(E40:X40)="","",IF(Y40<70,"BAŞARISIZ",IF(Y40<=100,"BAŞARILI",""))) -> BAŞARILI
A41: 33 | Y41: =IF(AA41="G","",IF(C41="","",SUM(E41:X41))) | Z41: =IF(SUM(E41:X41)="","",IF(Y41<70,"BAŞARISIZ",IF(Y41<=100,"BAŞARILI","")))
A42: 34 | Y42: =IF(AA42="G","",IF(C42="","",SUM(E42:X42))) | Z42: =IF(SUM(E42:X42)="","",IF(Y42<70,"BAŞARISIZ",IF(Y42<=100,"BAŞARILI","")))
A43: 35 | Y43: =IF(AA43="G","",IF(C43="","",SUM(E43:X43))) | Z43: =IF(SUM(E43:X43)="","",IF(Y43<70,"BAŞARISIZ",IF(Y43<=100,"BAŞARILI","")))
A44: 36 | Y44: =IF(AA44="G","",IF(C44="","",SUM(E44:X44))) | Z44: =IF(SUM(E44:X44)="","",IF(Y44<70,"BAŞARISIZ",IF(Y44<=100,"BAŞARILI","")))
A45: 37 | Y45: =IF(AA45="G","",IF(C45="","",SUM(E45:X45))) | Z45: =IF(SUM(E45:X45)="","",IF(Y45<70,"BAŞARISIZ",IF(Y45<=100,"BAŞARILI","")))
A46: 38 | Y46: =IF(AA46="G","",IF(C46="","",SUM(E46:X46))) | Z46: =IF(SUM(E46:X46)="","",IF(Y46<70,"BAŞARISIZ",IF(Y46<=100,"BAŞARILI","")))
A47: 39 | Y47: =IF(AA47="G","",IF(C47="","",SUM(E47:X47))) | Z47: =IF(SUM(E47:X47)="","",IF(Y47<70,"BAŞARISIZ",IF(Y47<=100,"BAŞARILI","")))
A48: 40 | Y48: =IF(AA48="G","",IF(C48="","",SUM(E48:X48))) | Z48: =IF(SUM(E48:X48)="","",IF(Y48<70,"BAŞARISIZ",IF(Y48<=100,"BAŞARILI","")))
A49: 41 | Y49: =IF(AA49="G","",IF(C49="","",SUM(E49:X49))) | Z49: =IF(SUM(E49:X49)="","",IF(Y49<70,"BAŞARISIZ",IF(Y49<=100,"BAŞARILI","")))
A50: 42 | Y50: =IF(AA50="G","",IF(C50="","",SUM(E50:X50))) | Z50: =IF(SUM(E50:X50)="","",IF(Y50<70,"BAŞARISIZ",IF(Y50<=100,"BAŞARILI","")))
A51: 43 | Y51: =IF(AA51="G","",IF(C51="","",SUM(E51:X51))) | Z51: =IF(SUM(E51:X51)="","",IF(Y51<70,"BAŞARISIZ",IF(Y51<=100,"BAŞARILI","")))
A52: 44 | Y52: =IF(AA52="G","",IF(C52="","",SUM(E52:X52))) | Z52: =IF(SUM(E52:X52)="","",IF(Y52<70,"BAŞARISIZ",IF(Y52<=100,"BAŞARILI","")))
A53: 45 | Y53: =IF(AA53="G","",IF(C53="","",SUM(E53:X53))) | Z53: =IF(SUM(E53:X53)="","",IF(Y53<70,"BAŞARISIZ",IF(Y53<=100,"BAŞARILI","")))
...

Sheet Analiz 2.1
A1: SINAV ANALİZİ VE SINIF DEĞERLENDİRMESİ
C2: Okul : | D2: =Bilgiler!D2 -> ATATÜRK ORTAOKULU | N2: Sınıf | R2: : | S2: =Bilgiler!D5 -> 5/F | X2: Bu sınav 100 puan üzerinden uygulanıp alınan toplam puanın %50’sine “Konuşma Becerileri Sınavı” ile “Dinleme Becerileri Sınavı” puanlarının %25'leri eklenir.
C3: Öğretim Yılı : | D3: =Bilgiler!D3 -> 2025-2026 | N3: Sınav Dönemi | R3: : | S3: 2. Dönem
C4: Ders : | D4: =Bilgiler!D4 -> TÜRKÇE | N4: Sınav Numarası | R4: : | S4: 1. Yazılı
C5: Ders Öğretmeni: | D5: =Bilgiler!D6 -> Engin YAZAN | N5: Sınav tarihi | R5: :
A7: ÖĞRENCİNİN | E7: SORULAR | Y7: SONUÇ
A8: SIRA NO | B8: OKUL NO | C8: ADI | D8: SOYADI | E8: 1 | F8: 2 | G8: 3 | H8: 4 | I8: 5 | J8: 6 | K8: 7 | L8: 8 | M8: 9 | N8: 10 | O8: 11 | P8: 12 | Q8: 13 | R8: 14 | S8: 15 | T8: 16 | U8: 17 | V8: 18 | W8: 19 | X8: 20 | Y8: PUAN | Z8: DURUM | AA8: Girmedi
A9: 1 | C9: ELİF ÜLKÜ GÖKÇE | E9: 10 | F9: 10 | G9: 9 | H9: 12 | I9: 14 | J9: 0 | K9: 23 | Y9: =IF(AA9="G","",IF(#REF!="","",SUM(E9:X9))) -> #REF! | Z9: =IF(SUM(E9:X9)="","",IF(Y9<70,"BAŞARISIZ",IF(Y9<=100,"BAŞARILI",""))) -> #REF!
A10: 2 | C10: MEHMET FARUK SAY | E10: 10 | F10: 10 | G10: 9 | H10: 8 | I10: 14 | J10: 0 | K10: 20 | Y10: =IF(AA10="G","",IF(C9="","",SUM(E10:X10))) -> 71 | Z10: =IF(SUM(E10:X10)="","",IF(Y10<70,"BAŞARISIZ",IF(Y10<=100,"BAŞARILI",""))) -> BAŞARILI
A11: 3 | C11: ZEHRA MİRA İÇALAN | E11: 10 | F11: 10 | G11: 9 | H11: 12 | I11: 14 | J11: 0 | K11: 20 | Y11: =IF(AA11="G","",IF(C10="","",SUM(E11:X11))) -> 75 | Z11: =IF(SUM(E11:X11)="","",IF(Y11<70,"BAŞARISIZ",IF(Y11<=100,"BAŞARILI",""))) -> BAŞARILI
A12: 4 | C12: SUAT BULUT | E12: 10 | F12: 10 | G12: 6 | H12: 8 | I12: 12 | J12: 0 | K12: 18 | Y12: =IF(AA12="G","",IF(C11="","",SUM(E12:X12))) -> 64 | Z12: =IF(SUM(E12:X12)="","",IF(Y12<70,"BAŞARISIZ",IF(Y12<=100,"BAŞARILI",""))) -> BAŞARISIZ
A13: 5 | C13: ATA EFE ÇETİN | E13: 10 | F13: 10 | G13: 3 | H13: 8 | I13: 12 | J13: 0 | K13: 23 | Y13: =IF(AA13="G","",IF(C12="","",SUM(E13:X13))) -> 66 | Z13: =IF(SUM(E13:X13)="","",IF(Y13<70,"BAŞARISIZ",IF(Y13<=100,"BAŞARILI",""))) -> BAŞARISIZ
A14: 6 | C14: BAHAR NUR UĞUR | E14: 10 | F14: 10 | G14: 9 | H14: 10 | I14: 12 | J14: 16 | K14: 15 | Y14: =IF(AA14="G","",IF(C13="","",SUM(E14:X14))) -> 82 | Z14: =IF(SUM(E14:X14)="","",IF(Y14<70,"BAŞARISIZ",IF(Y14<=100,"BAŞARILI",""))) -> BAŞARILI
A15: 7 | C15: BELİNAY PİYNAR | E15: 10 | F15: 10 | G15: 9 | H15: 10 | I15: 14 | J15: 0 | K15: 18 | Y15: =IF(AA15="G","",IF(C14="","",SUM(E15:X15))) -> 71 | Z15: =IF(SUM(E15:X15)="","",IF(Y15<70,"BAŞARISIZ",IF(Y15<=100,"BAŞARILI",""))) -> BAŞARILI
A16: 8 | C16: BERDAN YAĞIZ AKSAY | E16: 10 | F16: 10 | G16: 9 | H16: 10 | I16: 14 | J16: 16 | K16: 20 | Y16: =IF(AA16="G","",IF(C15="","",SUM(E16:X16))) -> 89 | Z16: =IF(SUM(E16:X16)="","",IF(Y16<70,"BAŞARISIZ",IF(Y16<=100,"BAŞARILI",""))) -> BAŞARILI
A17: 9 | C17: BERRANUR ASLI PİYASLI | E17: 10 | F17: 10 | G17: 6 | H17: 12 | I17: 14 | J17: 16 | K17: 15 | Y17: =IF(AA17="G","",IF(C16="","",SUM(E17:X17))) -> 83 | Z17: =IF(SUM(E17:X17)="","",IF(Y17<70,"BAŞARISIZ",IF(Y17<=100,"BAŞARILI",""))) -> BAŞARILI
A18: 10 | C18: BERTUĞ GÜR | E18: 10 | F18: 10 | G18: 6 | H18: 12 | I18: 14 | J18: 16 | K18: 20 | Y18: =IF(AA18="G","",IF(C17="","",SUM(E18:X18))) -> 88 | Z18: =IF(SUM(E18:X18)="","",IF(Y18<70,"BAŞARISIZ",IF(Y18<=100,"BAŞARILI",""))) -> BAŞARILI
A19: 11 | C19: CANSU KANLIADA | E19: 10 | F19: 10 | G19: 6 | H19: 10 | I19: 14 | J19: 0 | K19: 16 | Y19: =IF(AA19="G","",IF(C18="","",SUM(E19:X19))) -> 66 | Z19: =IF(SUM(E19:X19)="","",IF(Y19<70,"BAŞARISIZ",IF(Y19<=100,"BAŞARILI",""))) -> BAŞARISIZ
A20: 12 | C20: ÇINAR METİN AHI | E20: 10 | F20: 10 | G20: 3 | H20: 4 | I20: 14 | J20: 15 | K20: 16 | Y20: =IF(AA20="G","",IF(C19="","",SUM(E20:X20))) -> 72 | Z20: =IF(SUM(E20:X20)="","",IF(Y20<70,"BAŞARISIZ",IF(Y20<=100,"BAŞARILI",""))) -> BAŞARILI
A21: 13 | C21: ECEM ÖZTÜRK | E21: 10 | F21: 10 | G21: 9 | H21: 10 | I21: 12 | J21: 5 | K21: 18 | Y21: =IF(AA21="G","",IF(C20="","",SUM(E21:X21))) -> 74 | Z21: =IF(SUM(E21:X21)="","",IF(Y21<70,"BAŞARISIZ",IF(Y21<=100,"BAŞARILI",""))) -> BAŞARILI
... A33: 25 | C33: MİRAÇ KAPLAN | E33: 10 | F33: 10 | G33: 9 | H33: 14 | I33: 14 | J33: 16 | K33: 20 | Y33: =IF(AA33="G","",IF(C32="","",SUM(E33:X33))) -> 93 | Z33: =IF(SUM(E33:X33)="","",IF(Y33<70,"BAŞARISIZ",IF(Y33<=100,"BAŞARILI",""))) -> BAŞARILI
A34: 26 | Y34: =IF(AA34="G","",IF(C33="","",SUM(E34:X34))) -> 0 | Z34: =IF(SUM(E34:X34)="","",IF(Y34<70,"BAŞARISIZ",IF(Y34<=100,"BAŞARILI",""))) -> BAŞARISIZ
A35: 27 | C35: NİHAT KAĞAN DURSUN | Y35: =IF(AA35="G","",IF(C34="","",SUM(E35:X35))) | Z35: =IF(SUM(E35:X35)="","",IF(Y35<70,"BAŞARISIZ",IF(Y35<=100,"BAŞARILI","")))
A36: 28 | C36: SAMİ ÇINAR KÖKSOY | E36: 10 | F36: 10 | G36: 9 | H36: 12 | I36: 14 | J36: 15 | K36: 25 | Y36: =IF(AA36="G","",IF(C35="","",SUM(E36:X36))) -> 95 | Z36: =IF(SUM(E36:X36)="","",IF(Y36<70,"BAŞARISIZ",IF(Y36<=100,"BAŞARILI",""))) -> BAŞARILI
A37: 29 | C37: SENA ÇOPUR | E37: 10 | F37: 10 | G37: 9 | H37: 14 | I37: 14 | J37: 16 | K37: 20 | Y37: =IF(AA37="G","",IF(C36="","",SUM(E37:X37))) -> 93 | Z37: =IF(SUM(E37:X37)="","",IF(Y37<70,"BAŞARISIZ",IF(Y37<=100,"BAŞARILI",""))) -> BAŞARILI
A38: 30 | C38: SERDAR KAYRA KANGIN | E38: 3 | F38: 10 | G38: 3 | H38: 6 | I38: 12 | J38: 0 | K38: 16 | Y38: =IF(AA38="G","",IF(C37="","",SUM(E38:X38))) -> 50 | Z38: =IF(SUM(E38:X38)="","",IF(Y38<70,"BAŞARISIZ",IF(Y38<=100,"BAŞARILI",""))) -> BAŞARISIZ
A39: 31 | C39: YAĞMUR SENA TEKNEÇUKUR | E39: 10 | F39: 10 | G39: 9 | H39: 6 | I39: 12 | J39: 16 | K39: 25 | Y39: =IF(AA39="G","",IF(C38="","",SUM(E39:X39))) -> 88 | Z39: =IF(SUM(E39:X39)="","",IF(Y39<70,"BAŞARISIZ",IF(Y39<=100,"BAŞARILI",""))) -> BAŞARILI
A40: 32 | C40: EFLİN SAK | E40: 10 | F40: 10 | G40: 9 | H40: 12 | I40: 16 | J40: 0 | K40: 20 | Y40: =IF(AA40="G","",IF(C39="","",SUM(E40:X40))) -> 77 | Z40: =IF(SUM(E40:X40)="","",IF(Y40<70,"BAŞARISIZ",IF(Y40<=100,"BAŞARILI",""))) -> BAŞARILI
A41: 33 | C41: SILA DONBALOĞLU | E41: 10 | F41: 10 | G41: 0 | H41: 8 | I41: 10 | J41: 0 | K41: 0 | Y41: =IF(AA41="G","",IF(C40="","",SUM(E41:X41))) -> 38 | Z41: =IF(SUM(E41:X41)="","",IF(Y41<70,"BAŞARISIZ",IF(Y41<=100,"BAŞARILI",""))) -> BAŞARISIZ
A42: 34 | Y42: =IF(AA42="G","",IF(C41="","",SUM(E42:X42))) -> 0 | Z42: =IF(SUM(E42:X42)="","",IF(Y42<70,"BAŞARISIZ",IF(Y42<=100,"BAŞARILI",""))) -> BAŞARISIZ
A43: 35 | Y43: =IF(AA43="G","",IF(C43="","",SUM(E43:X43))) | Z43: =IF(SUM(E43:X43)="","",IF(Y43<70,"BAŞARISIZ",IF(Y43<=100,"BAŞARILI","")))
A44: 36 | Y44: =IF(AA44="G","",IF(C44="","",SUM(E44:X44))) | Z44: =IF(SUM(E44:X44)="","",IF(Y44<70,"BAŞARISIZ",IF(Y44<=100,"BAŞARILI","")))
A45: 37 | Y45: =IF(AA45="G","",IF(C45="","",SUM(E45:X45))) | Z45: =IF(SUM(E45:X45)="","",IF(Y45<70,"BAŞARISIZ",IF(Y45<=100,"BAŞARILI","")))
A46: 38 | Y46: =IF(AA46="G","",IF(C46="","",SUM(E46:X46))) | Z46: =IF(SUM(E46:X46)="","",IF(Y46<70,"BAŞARISIZ",IF(Y46<=100,"BAŞARILI","")))
A47: 39 | Y47: =IF(AA47="G","",IF(C47="","",SUM(E47:X47))) | Z47: =IF(SUM(E47:X47)="","",IF(Y47<70,"BAŞARISIZ",IF(Y47<=100,"BAŞARILI","")))
A48: 40 | Y48: =IF(AA48="G","",IF(C48="","",SUM(E48:X48))) | Z48: =IF(SUM(E48:X48)="","",IF(Y48<70,"BAŞARISIZ",IF(Y48<=100,"BAŞARILI","")))
A49: 41 | Y49: =IF(AA49="G","",IF(C49="","",SUM(E49:X49))) | Z49: =IF(SUM(E49:X49)="","",IF(Y49<70,"BAŞARISIZ",IF(Y49<=100,"BAŞARILI","")))
A50: 42 | Y50: =IF(AA50="G","",IF(C50="","",SUM(E50:X50))) | Z50: =IF(SUM(E50:X50)="","",IF(Y50<70,"BAŞARISIZ",IF(Y50<=100,"BAŞARILI","")))
A51: 43 | Y51: =IF(AA51="G","",IF(C51="","",SUM(E51:X51))) | Z51: =IF(SUM(E51:X51)="","",IF(Y51<70,"BAŞARISIZ",IF(Y51<=100,"BAŞARILI","")))
A52: 44 | Y52: =IF(AA52="G","",IF(C52="","",SUM(E52:X52))) | Z52: =IF(SUM(E52:X52)="","",IF(Y52<70,"BAŞARISIZ",IF(Y52<=100,"BAŞARILI","")))
...

Sheet Analiz 2.2
A1: SINAV ANALİZİ VE SINIF DEĞERLENDİRMESİ
C2: Okul : | D2: =Bilgiler!D2 -> ATATÜRK ORTAOKULU | N2: Sınıf | R2: : | S2: =Bilgiler!D5 -> 5/F | X2: Bu sınav 100 puan üzerinden uygulanıp alınan toplam puanın %50’sine “Konuşma Becerileri Sınavı” ile “Dinleme Becerileri Sınavı” puanlarının %25'leri eklenir.
C3: Öğretim Yılı : | D3: =Bilgiler!D3 -> 2025-2026 | N3: Sınav Dönemi | R3: : | S3: 2. Dönem
C4: Ders : | D4: =Bilgiler!D4 -> TÜRKÇE | N4: Sınav Numarası | R4: : | S4: 2. Yazılı
C5: Ders Öğretmeni: | D5: =Bilgiler!D6 -> Engin YAZAN | N5: Sınav tarihi | R5: :
A7: ÖĞRENCİNİN | E7: SORULAR | Y7: SONUÇ
A8: SIRA NO | B8: OKUL NO | C8: ADI | D8: SOYADI | E8: 1 | F8: 2 | G8: 3 | H8: 4 | I8: 5 | J8: 6 | K8: 7 | L8: 8 | M8: 9 | N8: 10 | O8: 11 | P8: 12 | Q8: 13 | R8: 14 | S8: 15 | T8: 16 | U8: 17 | V8: 18 | W8: 19 | X8: 20 | Y8: PUAN | Z8: DURUM | AA8: Girmedi
A9: 1 | Y9: =IF(AA9="G","",IF(C9="","",SUM(E9:X9))) | Z9: =IF(SUM(E9:X9)="","",IF(Y9<70,"BAŞARISIZ",IF(Y9<=100,"BAŞARILI","")))
A10: 2 | Y10: =IF(AA10="G","",IF(C10="","",SUM(E10:X10))) | Z10: =IF(SUM(E10:X10)="","",IF(Y10<70,"BAŞARISIZ",IF(Y10<=100,"BAŞARILI","")))
A11: 3 | Y11: =IF(AA11="G","",IF(C11="","",SUM(E11:X11))) | Z11: =IF(SUM(E11:X11)="","",IF(Y11<70,"BAŞARISIZ",IF(Y11<=100,"BAŞARILI","")))
A12: 4 | Y12: =IF(AA12="G","",IF(C12="","",SUM(E12:X12))) | Z12: =IF(SUM(E12:X12)="","",IF(Y12<70,"BAŞARISIZ",IF(Y12<=100,"BAŞARILI","")))
A13: 5 | Y13: =IF(AA13="G","",IF(C13="","",SUM(E13:X13))) | Z13: =IF(SUM(E13:X13)="","",IF(Y13<70,"BAŞARISIZ",IF(Y13<=100,"BAŞARILI","")))
A14: 6 | Y14: =IF(AA14="G","",IF(C14="","",SUM(E14:X14))) | Z14: =IF(SUM(E14:X14)="","",IF(Y14<70,"BAŞARISIZ",IF(Y14<=100,"BAŞARILI","")))
A15: 7 | Y15: =IF(AA15="G","",IF(C15="","",SUM(E15:X15))) | Z15: =IF(SUM(E15:X15)="","",IF(Y15<70,"BAŞARISIZ",IF(Y15<=100,"BAŞARILI","")))
A16: 8 | Y16: =IF(AA16="G","",IF(C16="","",SUM(E16:X16))) | Z16: =IF(SUM(E16:X16)="","",IF(Y16<70,"BAŞARISIZ",IF(Y16<=100,"BAŞARILI","")))
A17: 9 | Y17: =IF(AA17="G","",IF(C17="","",SUM(E17:X17))) | Z17: =IF(SUM(E17:X17)="","",IF(Y17<70,"BAŞARISIZ",IF(Y17<=100,"BAŞARILI","")))
A18: 10 | Y18: =IF(AA18="G","",IF(C18="","",SUM(E18:X18))) | Z18: =IF(SUM(E18:X18)="","",IF(Y18<70,"BAŞARISIZ",IF(Y18<=100,"BAŞARILI","")))
A19: 11 | Y19: =IF(AA19="G","",IF(C19="","",SUM(E19:X19))) | Z19: =IF(SUM(E19:X19)="","",IF(Y19<70,"BAŞARISIZ",IF(Y19<=100,"BAŞARILI","")))
A20: 12 | Y20: =IF(AA20="G","",IF(C20="","",SUM(E20:X20))) | Z20: =IF(SUM(E20:X20)="","",IF(Y20<70,"BAŞARISIZ",IF(Y20<=100,"BAŞARILI","")))
... A53: 45 | Y53: =IF(AA53="G","",IF(C53="","",SUM(E53:X53))) | Z53: =IF(SUM(E53:X53)="","",IF(Y53<70,"BAŞARISIZ",IF(Y53<=100,"BAŞARILI","")))
A54: SORULARA GÖRE BAŞARI (%) | E54: =IF(E57=""," ",((SUM(E9:E53)/COUNT(E9:E53))*100)/E57) | F54: =IF(E58=""," ",((SUM(F9:F53)/COUNT(F9:F53))*100)/E58) | G54: =IF(E59=""," ",((SUM(G9:G53)/COUNT(G9:G53))*100)/E59) | H54: =IF(E60=""," ",((SUM(H9:H53)/COUNT(H9:H53))*100)/E60) | I54: =IF(E61=""," ",((SUM(I9:I53)/COUNT(I9:I53))*100)/E61) | J54: =IF(E62=""," ",((SUM(J9:J53)/COUNT(J9:J53))*100)/E62) | K54: =IF(E63=""," ",((SUM(K9:K53)/COUNT(K9:K53))*100)/E63) | L54: =IF(E64=""," ",((SUM(L9:L53)/COUNT(L9:L53))*100)/E64) | M54: =IF(E65=""," ",((SUM(M9:M53)/COUNT(M9:M53))*100)/E65) | N54: =IF(E66="","",((SUM(N9:N53)/COUNT(N9:N53))*100)/E66) | O54: =IF(E67=""," ",((SUM(O9:O53)/COUNT(O9:O53))*100)/E67) | P54: =IF(E68=""," ",((SUM(P9:P53)/COUNT(P9:P53))*100)/E68) | Q54: =IF(E69=""," ",((SUM(Q9:Q53)/COUNT(Q9:Q53))*100)/E69) | R54: =IF(E70=""," ",((SUM(R9:R53)/COUNT(R9:R53))*100)/E70) | S54: =IF(E71=""," ",((SUM(S9:S53)/COUNT(S9:S53))*100)/E71) | T54: =IF(E72=""," ",((SUM(T9:T53)/COUNT(T9:T53))*100)/E72) | U54: =IF(E73=""," ",((SUM(U9:U53)/COUNT(U9:U53))*100)/E73) | V54: =IF(E74=""," ",((SUM(V9:V53)/COUNT(V9:V53))*100)/E74) | W54: =IF(E75=""," ",((SUM(W9:W53)/COUNT(W9:W53))*100)/E75) | X54: =IF(E76=""," ",((SUM(X9:X53)/COUNT(X9:X53))*100)/E76)
A56: Konular | E56: Puan | G56: SORULARA GÖRE BAŞARI YÜZDESİ GRAFİĞİ
A57: 1 | B57: =IF(Konular!E119="","",Konular!E119) | E57: =IF(Konular!F119="","",Konular!F119)
A58: 2 | B58: =IF(Konular!E120="","",Konular!E120) | E58: =IF(Konular!F120="","",Konular!F120)
A59: 3 | B59: =IF(Konular!E121="","",Konular!E121) | E59: =IF(Konular!F121="","",Konular!F121)
A60: 4 | B60: =IF(Konular!E122="","",Konular!E122) | E60: =IF(Konular!F122="","",Konular!F122)
A61: 5 | B61: =IF(Konular!E123="","",Konular!E123) | E61: =IF(Konular!F123="","",Konular!F123)
A62: 6 | B62: =IF(Konular!E124="","",Konular!E124) | E62: =IF(Konular!F124="","",Konular!F124)
A63: 7 | B63: =IF(Konular!E125="","",Konular!E125) | E63: =IF(Konular!F125="","",Konular!F125) | G63: ÖĞRENCİLERE GÖRE BAŞARI GRAFİĞİ
A64: 8 | B64: =IF(Konular!E126="","",Konular!E126) | E64: =IF(Konular!F126="","",Konular!F126)
A65: 9 | B65: =IF(Konular!E127="","",Konular!E127) | E65: =IF(Konular!F127="","",Konular!F127)
A66: 10 | B66: =IF(Konular!E128="","",Konular!E128) | E66: =IF(Konular!F128="","",Konular!F128)
A67: 11 | B67: =IF(Konular!E129="","",Konular!E129) | E67: =IF(Konular!F129="","",Konular!F129)
A68: 12 | B68: =IF(Konular!E130="","",Konular!E130) | E68: =IF(Konular!F130="","",Konular!F130)
A69: 13 | B69: =IF(Konular!E131="","",Konular!E131) | E69: =IF(Konular!F131="","",Konular!F131)
A70: 14 | B70: =IF(Konular!E132="","",Konular!E132) | E70: =IF(Konular!F132="","",Konular!F132)
A71: 15 | B71: =IF(Konular!E133="","",Konular!E133) | E71: =IF(Konular!F133="","",Konular!F133)
A72: 16 | B72: =IF(Konular!E134="","",Konular!E134) | E72: =IF(Konular!F134="","",Konular!F134)
A73: 17 | B73: =IF(Konular!E135="","",Konular!E135) | E73: =IF(Konular!F135="","",Konular!F135)
A74: 18 | B74: =IF(Konular!E136="","",Konular!E136) | E74: =IF(Konular!F136="","",Konular!F136) | G74: SINIF DEĞERLENDİRMESİ
...
